BEGIN:VCALENDAR
VERSION:2.0
PRODID:-//Alliance Judo 4 Vallées - ECPv6.15.20//NONSGML v1.0//EN
CALSCALE:GREGORIAN
METHOD:PUBLISH
X-WR-CALNAME:Alliance Judo 4 Vallées
X-ORIGINAL-URL:https://www.alliancejudo4vallees.fr
X-WR-CALDESC:Évènements pour Alliance Judo 4 Vallées
REFRESH-INTERVAL;VALUE=DURATION:PT1H
X-Robots-Tag:noindex
X-PUBLISHED-TTL:PT1H
BEGIN:VTIMEZONE
TZID:Europe/Paris
BEGIN:DAYLIGHT
TZOFFSETFROM:+0100
TZOFFSETTO:+0200
TZNAME:CEST
DTSTART:20240331T010000
END:DAYLIGHT
BEGIN:STANDARD
TZOFFSETFROM:+0200
TZOFFSETTO:+0100
TZNAME:CET
DTSTART:20241027T010000
END:STANDARD
BEGIN:DAYLIGHT
TZOFFSETFROM:+0100
TZOFFSETTO:+0200
TZNAME:CEST
DTSTART:20250330T010000
END:DAYLIGHT
BEGIN:STANDARD
TZOFFSETFROM:+0200
TZOFFSETTO:+0100
TZNAME:CET
DTSTART:20251026T010000
END:STANDARD
BEGIN:DAYLIGHT
TZOFFSETFROM:+0100
TZOFFSETTO:+0200
TZNAME:CEST
DTSTART:20260329T010000
END:DAYLIGHT
BEGIN:STANDARD
TZOFFSETFROM:+0200
TZOFFSETTO:+0100
TZNAME:CET
DTSTART:20261025T010000
END:STANDARD
END:VTIMEZONE
BEGIN:VEVENT
DTSTART;TZID=Europe/Paris:20250514T080000
DTEND;TZID=Europe/Paris:20250514T190000
DTSTAMP:20260423T002605
CREATED:20250115T103821Z
LAST-MODIFIED:20250414T140415Z
UID:3578-1747209600-1747249200@www.alliancejudo4vallees.fr
SUMMARY:passage de grade
DESCRIPTION:Benjamins et minimes à partir de la ceinture orange
URL:https://www.alliancejudo4vallees.fr/evenement/passage-de-grade/
LOCATION:La Voulte-sur-Rhone\, Complexe sportif Battandier-Lukowiak\, La Voulte-sur-Rhône\, 07800\, France
CATEGORIES:benjamin judo,minime judo
ORGANIZER;CN="Alliance Judo 4 Vall%C3%A9es":MAILTO:yan.inbdx@free.fr
END:VEVENT
END:VCALENDAR