BEGIN:VCALENDAR
VERSION:2.0
PRODID:-//Alliance Judo 4 Vallées - ECPv6.15.20//NONSGML v1.0//EN
CALSCALE:GREGORIAN
METHOD:PUBLISH
X-WR-CALNAME:Alliance Judo 4 Vallées
X-ORIGINAL-URL:https://www.alliancejudo4vallees.fr
X-WR-CALDESC:Évènements pour Alliance Judo 4 Vallées
REFRESH-INTERVAL;VALUE=DURATION:PT1H
X-Robots-Tag:noindex
X-PUBLISHED-TTL:PT1H
BEGIN:VTIMEZONE
TZID:Europe/Paris
BEGIN:DAYLIGHT
TZOFFSETFROM:+0100
TZOFFSETTO:+0200
TZNAME:CEST
DTSTART:20240331T010000
END:DAYLIGHT
BEGIN:STANDARD
TZOFFSETFROM:+0200
TZOFFSETTO:+0100
TZNAME:CET
DTSTART:20241027T010000
END:STANDARD
BEGIN:DAYLIGHT
TZOFFSETFROM:+0100
TZOFFSETTO:+0200
TZNAME:CEST
DTSTART:20250330T010000
END:DAYLIGHT
BEGIN:STANDARD
TZOFFSETFROM:+0200
TZOFFSETTO:+0100
TZNAME:CET
DTSTART:20251026T010000
END:STANDARD
BEGIN:DAYLIGHT
TZOFFSETFROM:+0100
TZOFFSETTO:+0200
TZNAME:CEST
DTSTART:20260329T010000
END:DAYLIGHT
BEGIN:STANDARD
TZOFFSETFROM:+0200
TZOFFSETTO:+0100
TZNAME:CET
DTSTART:20261025T010000
END:STANDARD
END:VTIMEZONE
BEGIN:VEVENT
DTSTART;TZID=Europe/Paris:20250428T083000
DTEND;TZID=Europe/Paris:20250429T170000
DTSTAMP:20260422T234625
CREATED:20250114T111634Z
LAST-MODIFIED:20250310T150911Z
UID:3567-1745829000-1745946000@www.alliancejudo4vallees.fr
SUMMARY:stage club éveil judo
DESCRIPTION:
URL:https://www.alliancejudo4vallees.fr/evenement/stage-club-2/
LOCATION:La Voulte-sur-Rhone\, Complexe sportif Battandier-Lukowiak\, La Voulte-sur-Rhône\, 07800\, France
CATEGORIES:éveil judo
ORGANIZER;CN="Alliance Judo 4 Vall%C3%A9es":MAILTO:yan.inbdx@free.fr
END:VEVENT
END:VCALENDAR