BEGIN:VCALENDAR
VERSION:2.0
PRODID:-//Alliance Judo 4 Vallées - ECPv6.15.20//NONSGML v1.0//EN
CALSCALE:GREGORIAN
METHOD:PUBLISH
X-WR-CALNAME:Alliance Judo 4 Vallées
X-ORIGINAL-URL:https://www.alliancejudo4vallees.fr
X-WR-CALDESC:Évènements pour Alliance Judo 4 Vallées
REFRESH-INTERVAL;VALUE=DURATION:PT1H
X-Robots-Tag:noindex
X-PUBLISHED-TTL:PT1H
BEGIN:VTIMEZONE
TZID:Europe/Paris
BEGIN:DAYLIGHT
TZOFFSETFROM:+0100
TZOFFSETTO:+0200
TZNAME:CEST
DTSTART:20240331T010000
END:DAYLIGHT
BEGIN:STANDARD
TZOFFSETFROM:+0200
TZOFFSETTO:+0100
TZNAME:CET
DTSTART:20241027T010000
END:STANDARD
BEGIN:DAYLIGHT
TZOFFSETFROM:+0100
TZOFFSETTO:+0200
TZNAME:CEST
DTSTART:20250330T010000
END:DAYLIGHT
BEGIN:STANDARD
TZOFFSETFROM:+0200
TZOFFSETTO:+0100
TZNAME:CET
DTSTART:20251026T010000
END:STANDARD
BEGIN:DAYLIGHT
TZOFFSETFROM:+0100
TZOFFSETTO:+0200
TZNAME:CEST
DTSTART:20260329T010000
END:DAYLIGHT
BEGIN:STANDARD
TZOFFSETFROM:+0200
TZOFFSETTO:+0100
TZNAME:CET
DTSTART:20261025T010000
END:STANDARD
END:VTIMEZONE
BEGIN:VEVENT
DTSTART;TZID=Europe/Paris:20250422T083000
DTEND;TZID=Europe/Paris:20250425T170000
DTSTAMP:20260423T001829
CREATED:20250114T110906Z
LAST-MODIFIED:20250317T130047Z
UID:3564-1745310600-1745600400@www.alliancejudo4vallees.fr
SUMMARY:stage multi activités 6 à 13 ans
DESCRIPTION:https://www.alliancejudo4vallees.fr/wp-content/uploads/2025/03/affiche-stage-Paques-20251.pdf
URL:https://www.alliancejudo4vallees.fr/evenement/stage/
LOCATION:La Voulte-sur-Rhone\, Complexe sportif Battandier-Lukowiak\, La Voulte-sur-Rhône\, 07800\, France
CATEGORIES:benjamin(e) judo,mini-poussin(e) judo,minime judo,poussin(e)
ORGANIZER;CN="Alliance Judo 4 Vall%C3%A9es":MAILTO:yan.inbdx@free.fr
END:VEVENT
END:VCALENDAR